BEGIN:VCALENDAR
VERSION:2.0
PRODID:https://www.kufer.de/kuferweb / DE
METHOD:PUBLISH
CALSCALE:GREGORIAN
X-WR-TIMEZONE:Europe/Berlin
BEGIN:VTIMEZONE
TZID:Europe/Berlin
X-LIC-LOCATION:Europe/Berlin
BEGIN:DAYLIGHT
TZOFFSETFROM:+0100
TZOFFSETTO:+0200
TZNAME:CEST
DTSTART:19700329T020000
RRULE:FREQ=YEARLY;INTERVAL=1;BYDAY=-1SU;BYMONTH=3
END:DAYLIGHT
BEGIN:STANDARD
TZOFFSETFROM:+0200
TZOFFSETTO:+0100
TZNAME:CET
DTSTART:19701025T030000
RRULE:FREQ=YEARLY;INTERVAL=1;BYDAY=-1SU;BYMONTH=10
END:STANDARD
END:VTIMEZONE
BEGIN:VEVENT
DTSTAMP:20260424T061602
DTSTART;TZID=Europe/Berlin:20260505T090000
DTEND;TZID=Europe/Berlin:20260505T130000
UID:26-40272K-20260505T090000@VWAKARLSRUHE BADEN
SUMMARY:Web-Seminar: Coaching-Kompetenz für Führungskräfte - Einfache und wirkungsvolle Techniken zur nachhaltigen Förderung von Motivation und Zufriedenheit (26-40272K) 
LOCATION:Webex5
END:VEVENT
BEGIN:VEVENT
DTSTAMP:20260424T061602
DTSTART;TZID=Europe/Berlin:20260506T090000
DTEND;TZID=Europe/Berlin:20260506T130000
UID:26-40272K-20260506T090000@VWAKARLSRUHE BADEN
SUMMARY:Web-Seminar: Coaching-Kompetenz für Führungskräfte - Einfache und wirkungsvolle Techniken zur nachhaltigen Förderung von Motivation und Zufriedenheit (26-40272K) 
LOCATION:Webex5
END:VEVENT
BEGIN:VEVENT
DTSTAMP:20260424T061602
DTSTART;TZID=Europe/Berlin:20260512T090000
DTEND;TZID=Europe/Berlin:20260512T130000
UID:26-40272K-20260512T090000@VWAKARLSRUHE BADEN
SUMMARY:Web-Seminar: Coaching-Kompetenz für Führungskräfte - Einfache und wirkungsvolle Techniken zur nachhaltigen Förderung von Motivation und Zufriedenheit (26-40272K) 
LOCATION:Webex5
END:VEVENT
BEGIN:VEVENT
DTSTAMP:20260424T061602
DTSTART;TZID=Europe/Berlin:20260513T090000
DTEND;TZID=Europe/Berlin:20260513T130000
UID:26-40272K-20260513T090000@VWAKARLSRUHE BADEN
SUMMARY:Web-Seminar: Coaching-Kompetenz für Führungskräfte - Einfache und wirkungsvolle Techniken zur nachhaltigen Förderung von Motivation und Zufriedenheit (26-40272K) 
LOCATION:Webex5
END:VEVENT
END:VCALENDAR