BEGIN:VCALENDAR
VERSION:2.0
PRODID:https://www.kufer.de/kuferweb / DE
METHOD:PUBLISH
CALSCALE:GREGORIAN
X-WR-TIMEZONE:Europe/Berlin
BEGIN:VTIMEZONE
TZID:Europe/Berlin
X-LIC-LOCATION:Europe/Berlin
BEGIN:DAYLIGHT
TZOFFSETFROM:+0100
TZOFFSETTO:+0200
TZNAME:CEST
DTSTART:19700329T020000
RRULE:FREQ=YEARLY;INTERVAL=1;BYDAY=-1SU;BYMONTH=3
END:DAYLIGHT
BEGIN:STANDARD
TZOFFSETFROM:+0200
TZOFFSETTO:+0100
TZNAME:CET
DTSTART:19701025T030000
RRULE:FREQ=YEARLY;INTERVAL=1;BYDAY=-1SU;BYMONTH=10
END:STANDARD
END:VTIMEZONE
BEGIN:VEVENT
DTSTAMP:20260424T173438
DTSTART;TZID=Europe/Berlin:20261019T090000
DTEND;TZID=Europe/Berlin:20261019T164500
UID:26-40740K-20261019T090000@VWAKARLSRUHE BADEN
SUMMARY:Professionell Führen in der Verwaltung - Teil 4: Change Management - Veränderungen initiieren, gestalten und begleiten (26-40740K) 
LOCATION:Hauptgebäude, Raum 314, Kaiserallee 12e, 76135 Karlsruhe
END:VEVENT
BEGIN:VEVENT
DTSTAMP:20260424T173438
DTSTART;TZID=Europe/Berlin:20261020T090000
DTEND;TZID=Europe/Berlin:20261020T164500
UID:26-40740K-20261020T090000@VWAKARLSRUHE BADEN
SUMMARY:Professionell Führen in der Verwaltung - Teil 4: Change Management - Veränderungen initiieren, gestalten und begleiten (26-40740K) 
LOCATION:Hauptgebäude, Raum 314, Kaiserallee 12e, 76135 Karlsruhe
END:VEVENT
END:VCALENDAR