BEGIN:VCALENDAR
VERSION:2.0
PRODID:https://www.kufer.de/kuferweb / DE
METHOD:PUBLISH
CALSCALE:GREGORIAN
X-WR-TIMEZONE:Europe/Berlin
BEGIN:VTIMEZONE
TZID:Europe/Berlin
X-LIC-LOCATION:Europe/Berlin
BEGIN:DAYLIGHT
TZOFFSETFROM:+0100
TZOFFSETTO:+0200
TZNAME:CEST
DTSTART:19700329T020000
RRULE:FREQ=YEARLY;INTERVAL=1;BYDAY=-1SU;BYMONTH=3
END:DAYLIGHT
BEGIN:STANDARD
TZOFFSETFROM:+0200
TZOFFSETTO:+0100
TZNAME:CET
DTSTART:19701025T030000
RRULE:FREQ=YEARLY;INTERVAL=1;BYDAY=-1SU;BYMONTH=10
END:STANDARD
END:VTIMEZONE
BEGIN:VEVENT
DTSTAMP:20260424T155550
DTSTART;TZID=Europe/Berlin:20261130T090000
DTEND;TZID=Europe/Berlin:20261130T164500
UID:26-40750K-20261130T090000@VWAKARLSRUHE BADEN
SUMMARY:Professionell Führen in der Verwaltung - Teil 5: Sand im Getriebe  - Professioneller Umgang mit Konflikten in der Führung (26-40750K) 
LOCATION:Hauptgebäude, Raum 314, Kaiserallee 12e, 76135 Karlsruhe
END:VEVENT
BEGIN:VEVENT
DTSTAMP:20260424T155550
DTSTART;TZID=Europe/Berlin:20261201T090000
DTEND;TZID=Europe/Berlin:20261201T164500
UID:26-40750K-20261201T090000@VWAKARLSRUHE BADEN
SUMMARY:Professionell Führen in der Verwaltung - Teil 5: Sand im Getriebe  - Professioneller Umgang mit Konflikten in der Führung (26-40750K) 
LOCATION:Hauptgebäude, Raum 314, Kaiserallee 12e, 76135 Karlsruhe
END:VEVENT
END:VCALENDAR