BEGIN:VCALENDAR
VERSION:2.0
PRODID:https://www.kufer.de/kuferweb / DE
METHOD:PUBLISH
CALSCALE:GREGORIAN
X-WR-TIMEZONE:Europe/Berlin
BEGIN:VTIMEZONE
TZID:Europe/Berlin
X-LIC-LOCATION:Europe/Berlin
BEGIN:DAYLIGHT
TZOFFSETFROM:+0100
TZOFFSETTO:+0200
TZNAME:CEST
DTSTART:19700329T020000
RRULE:FREQ=YEARLY;INTERVAL=1;BYDAY=-1SU;BYMONTH=3
END:DAYLIGHT
BEGIN:STANDARD
TZOFFSETFROM:+0200
TZOFFSETTO:+0100
TZNAME:CET
DTSTART:19701025T030000
RRULE:FREQ=YEARLY;INTERVAL=1;BYDAY=-1SU;BYMONTH=10
END:STANDARD
END:VTIMEZONE
BEGIN:VEVENT
DTSTAMP:20260424T105423
DTSTART;TZID=Europe/Berlin:20261012T090000
DTEND;TZID=Europe/Berlin:20261012T164500
UID:26-44088K-20261012T090000@VWAKARLSRUHE BADEN
SUMMARY:Kompetent und fit im Büro - Souverän am Telefon: Gelassen und freundlich, auch in schwierigen Momenten (26-44088K) 
LOCATION:Hofgebäude, Raum 73, Kaiserallee 12f, 76133 Karlsruhe
END:VEVENT
BEGIN:VEVENT
DTSTAMP:20260424T105423
DTSTART;TZID=Europe/Berlin:20261013T090000
DTEND;TZID=Europe/Berlin:20261013T164500
UID:26-44088K-20261013T090000@VWAKARLSRUHE BADEN
SUMMARY:Kompetent und fit im Büro - Souverän am Telefon: Gelassen und freundlich, auch in schwierigen Momenten (26-44088K) 
LOCATION:Hofgebäude, Raum 73, Kaiserallee 12f, 76133 Karlsruhe
END:VEVENT
END:VCALENDAR