BEGIN:VCALENDAR
VERSION:2.0
PRODID:https://www.kufer.de/kuferweb / DE
METHOD:PUBLISH
CALSCALE:GREGORIAN
X-WR-TIMEZONE:Europe/Berlin
BEGIN:VTIMEZONE
TZID:Europe/Berlin
X-LIC-LOCATION:Europe/Berlin
BEGIN:DAYLIGHT
TZOFFSETFROM:+0100
TZOFFSETTO:+0200
TZNAME:CEST
DTSTART:19700329T020000
RRULE:FREQ=YEARLY;INTERVAL=1;BYDAY=-1SU;BYMONTH=3
END:DAYLIGHT
BEGIN:STANDARD
TZOFFSETFROM:+0200
TZOFFSETTO:+0100
TZNAME:CET
DTSTART:19701025T030000
RRULE:FREQ=YEARLY;INTERVAL=1;BYDAY=-1SU;BYMONTH=10
END:STANDARD
END:VTIMEZONE
BEGIN:VEVENT
DTSTAMP:20260424T102513
DTSTART;TZID=Europe/Berlin:20260702T090000
DTEND;TZID=Europe/Berlin:20260702T164500
UID:26-63410K-20260702T090000@VWAKARLSRUHE BADEN
SUMMARY:Das Gemeinsame Europäische Asylsystem (GEAS) - Auswirkungen auf die Leistungserbringung in Deutschland  (AsylbLG und SGB II) (26-63410K) 
LOCATION:Webex1
END:VEVENT
END:VCALENDAR